BEGIN:VCALENDAR
VERSION:2.0
PRODID:-//Educational Technology Committee - ECPv5.4.0.2//NONSGML v1.0//EN
CALSCALE:GREGORIAN
METHOD:PUBLISH
X-WR-CALNAME:Educational Technology Committee
X-ORIGINAL-URL:http://www.edtechontario.ca
X-WR-CALDESC:Events for Educational Technology Committee
BEGIN:VTIMEZONE
TZID:America/Toronto
BEGIN:DAYLIGHT
TZOFFSETFROM:-0500
TZOFFSETTO:-0400
TZNAME:EDT
DTSTART:20190310T070000
END:DAYLIGHT
BEGIN:STANDARD
TZOFFSETFROM:-0400
TZOFFSETTO:-0500
TZNAME:EST
DTSTART:20191103T060000
END:STANDARD
END:VTIMEZONE
BEGIN:VEVENT
DTSTART;TZID=America/Toronto:20191106T120000
DTEND;TZID=America/Toronto:20191106T130000
DTSTAMP:20260424T053223
CREATED:20190913T173946Z
LAST-MODIFIED:20191114T151513Z
UID:2608-1573041600-1573045200@www.edtechontario.ca
SUMMARY:Designing Presentations and Online Lessons with the Brain in Mind
DESCRIPTION:[vc_row css=”.vc_custom_1568391181657{margin-bottom: 30px !important;}”][vc_column][vc_column_text]Let your presentations come to life while reducing the cognitive load on your students and audience members. \nLearn concepts and tips from cognitive science for designing presentations and online lessons that engage rather than overwhelm. \nWorkshop Learning Outcomes\n\nLearn how individuals take in and process new information.\nLearn about cognitive load theory and its influence on learning.\nLearn design and organization tips to optimize your presentation materials for learning.\n\n[/vc_column_text][vc_row_inner][vc_column_inner][vc_column_text css=”.vc_custom_1568396347890{margin-bottom: 0px !important;}”] \nPresenters(s)\nLouisa Lambregts\, Algonquin College\nTwitterLinkedIn[/vc_column_text][/vc_column_inner][/vc_row_inner][vc_row_inner][vc_column_inner][vc_column_text] \nPresentation Files\n\nYoutube Video Link\nPresentation PDF Link\n\n[/vc_column_text][/vc_column_inner][/vc_row_inner][/vc_column][/vc_row]
URL:http://www.edtechontario.ca/event/designing-presentations-and-online-lessons-with-the-brain-in-mind/
LOCATION:Virtual Workshop – Link will be provided by email one week prior to the workshop
CATEGORIES:Virtual,Workshop
ORGANIZER;CN="Gina%20Catenazzo":MAILTO:gina.catenazzo@humber.ca
END:VEVENT
END:VCALENDAR