BEGIN:VCALENDAR
VERSION:2.0
PRODID:-//Educational Technology Committee - ECPv5.4.0.2//NONSGML v1.0//EN
CALSCALE:GREGORIAN
METHOD:PUBLISH
X-WR-CALNAME:Educational Technology Committee
X-ORIGINAL-URL:http://www.edtechontario.ca
X-WR-CALDESC:Events for Educational Technology Committee
BEGIN:VTIMEZONE
TZID:America/Toronto
BEGIN:DAYLIGHT
TZOFFSETFROM:-0500
TZOFFSETTO:-0400
TZNAME:EDT
DTSTART:20200308T070000
END:DAYLIGHT
BEGIN:STANDARD
TZOFFSETFROM:-0400
TZOFFSETTO:-0500
TZNAME:EST
DTSTART:20201101T060000
END:STANDARD
END:VTIMEZONE
BEGIN:VEVENT
DTSTART;TZID=America/Toronto:20200320T110000
DTEND;TZID=America/Toronto:20200320T120000
DTSTAMP:20260424T082433
CREATED:20200115T123222Z
LAST-MODIFIED:20200317T165442Z
UID:2699-1584702000-1584705600@www.edtechontario.ca
SUMMARY:Extend Your Teaching Superpowers with Video Tools (Cancelled)
DESCRIPTION:[vc_row css=”.vc_custom_1568391181657{margin-bottom: 30px !important;}”][vc_column][vc_row_inner css=”.vc_custom_1584464013185{background-color: #dd3333 !important;border-radius: 5px !important;}”][vc_column_inner][vc_column_text el_class=”white-text”]Note: this event has been cancelled. We apologize for the inconvenience.[/vc_column_text][/vc_column_inner][/vc_row_inner][vc_row_inner][vc_column_inner][vc_column_text]Seifert (2019) suggests that recorded lectures provide flexibility that enhances student learning that leads to academic success. Utilizing videos\, students are empowered to complete activities\, review material\, and address gaps in their learning. \nIn this discussion\, you will interact using tools that empower you to extend beyond a traditional classroom delivery. Online\, face-to-face or a combination\, we have a little something for everyone. Learn how educators are using screencasting tools for online office hours\, snow-day classes\, feedback and to extend learning beyond classroom instruction. Hear from a student their perspective of participating in a video enhanced learning environment.[/vc_column_text][/vc_column_inner][/vc_row_inner][vc_row_inner][vc_column_inner][vc_column_text css=”.vc_custom_1584464032909{margin-bottom: 0px !important;}”] \nWorkshop Learning Outcomes\n\nUse online video tools to extend your teaching superpowers\n\n[/vc_column_text][/vc_column_inner][/vc_row_inner][vc_row_inner][vc_column_inner][vc_column_text css=”.vc_custom_1578669246917{margin-bottom: 0px !important;}”] \nPresenters(s)\nLisa Koster\, Conestoga College\nLinkedInTwitter \nKimberlee Carter\, Conestoga College\nLinkedInTwitter \nJelena Loncar-Vines\, Conestoga College\nMarie Rutherford\, Georgian College\nLinkedInTwitter \nMelinda Haw\, Student\, Conestoga College\n[/vc_column_text][/vc_column_inner][/vc_row_inner][vc_row_inner disable_element=”yes”][vc_column_inner][vc_btn title=”Register for this Webinar” style=”custom” custom_background=”#5c068c” custom_text=”#ffffff” size=”lg” link=”url:https%3A%2F%2Fwww.eventbrite.ca%2Fe%2Fextend-your-teaching-superpowers-with-video-tools-registration-90309633545||target:%20_blank|”][/vc_column_inner][/vc_row_inner][/vc_column][/vc_row]
URL:http://www.edtechontario.ca/event/extend-your-teaching-superpowers-with-video-tools/
LOCATION:Virtual Workshop – Link will be provided by email one week prior to the workshop
CATEGORIES:Virtual,Workshop
ORGANIZER;CN="Gina%20Catenazzo":MAILTO:gina.catenazzo@humber.ca
END:VEVENT
END:VCALENDAR