BEGIN:VCALENDAR
VERSION:2.0
PRODID:-//Educational Technology Committee - ECPv5.4.0.2//NONSGML v1.0//EN
CALSCALE:GREGORIAN
METHOD:PUBLISH
X-WR-CALNAME:Educational Technology Committee
X-ORIGINAL-URL:http://www.edtechontario.ca
X-WR-CALDESC:Events for Educational Technology Committee
BEGIN:VTIMEZONE
TZID:America/Toronto
BEGIN:DAYLIGHT
TZOFFSETFROM:-0500
TZOFFSETTO:-0400
TZNAME:EDT
DTSTART:20190310T070000
END:DAYLIGHT
BEGIN:STANDARD
TZOFFSETFROM:-0400
TZOFFSETTO:-0500
TZNAME:EST
DTSTART:20191103T060000
END:STANDARD
END:VTIMEZONE
BEGIN:VEVENT
DTSTART;TZID=America/Toronto:20191009T120000
DTEND;TZID=America/Toronto:20191009T130000
DTSTAMP:20260424T064601
CREATED:20190913T172817Z
LAST-MODIFIED:20191010T153024Z
UID:2592-1570622400-1570626000@www.edtechontario.ca
SUMMARY:FlipGrid Skits!
DESCRIPTION:[vc_row css=”.vc_custom_1568391181657{margin-bottom: 30px !important;}”][vc_column][vc_column_text]In this one hour workshop you will be introduced to FlipGrid as a tool to use for assessment. No experience is required. Hear from Kim Carter (@Kcarte02)\, a Conestoga faculty member who used FlipGrid to collect peer feedback\, practice communication skills\, and eventually mark a group skit. This was done in a therapeutic communication course in which communication style\, such as non-verbal and verbal cues like tone of voice and language\, were being taught and evaluated. Learn about the beneficial and unexpected results of trying out this video blog tool in a teaching and assessment context. \nWorkshop Learning Outcomes\n\nObserved an example of FLipGrid in use as a learning and assessment tool.\nShare experiences and strategies for troubleshooting when using video.\nEvaluated the applicability of FlipGrid to a variety of other teaching context\, as shared by participants.\n\n[/vc_column_text][vc_row_inner][vc_column_inner][vc_column_text css=”.vc_custom_1568395727923{margin-bottom: 0px !important;}”] \nPresenters(s)\nKim Carter\, Conestoga College\nTwitter[/vc_column_text][vc_column_text css=”.vc_custom_1568395743646{margin-bottom: 0px !important;}”] \nJesslyn Wilkinson\, Conestoga College\nTwitterLinkedIn[/vc_column_text][/vc_column_inner][/vc_row_inner][vc_row_inner][vc_column_inner][vc_column_text] \nPresentation files\n\nPresentation recording (YouTube)\nMentimeter presentation\nWeb Article: How I Experimented With Flipgrid\, It Blew Up And The Learning Was Beautiful\n\n[/vc_column_text][/vc_column_inner][/vc_row_inner][/vc_column][/vc_row]
URL:http://www.edtechontario.ca/event/flipgrid-skits/
LOCATION:Virtual Workshop – Link will be provided by email one week prior to the workshop
CATEGORIES:Virtual,Workshop
ORGANIZER;CN="Gina%20Catenazzo":MAILTO:gina.catenazzo@humber.ca
END:VEVENT
END:VCALENDAR