BEGIN:VCALENDAR
VERSION:2.0
PRODID:-//Educational Technology Committee - ECPv5.4.0.2//NONSGML v1.0//EN
CALSCALE:GREGORIAN
METHOD:PUBLISH
X-WR-CALNAME:Educational Technology Committee
X-ORIGINAL-URL:http://www.edtechontario.ca
X-WR-CALDESC:Events for Educational Technology Committee
BEGIN:VTIMEZONE
TZID:America/Toronto
BEGIN:DAYLIGHT
TZOFFSETFROM:-0500
TZOFFSETTO:-0400
TZNAME:EDT
DTSTART:20200308T070000
END:DAYLIGHT
BEGIN:STANDARD
TZOFFSETFROM:-0400
TZOFFSETTO:-0500
TZNAME:EST
DTSTART:20201101T060000
END:STANDARD
END:VTIMEZONE
BEGIN:VEVENT
DTSTART;TZID=America/Toronto:20200302T110000
DTEND;TZID=America/Toronto:20200302T120000
DTSTAMP:20260424T070934
CREATED:20200115T123816Z
LAST-MODIFIED:20200302T195515Z
UID:2693-1583146800-1583150400@www.edtechontario.ca
SUMMARY:Publipostage
DESCRIPTION:[vc_row css=”.vc_custom_1568391181657{margin-bottom: 30px !important;}”][vc_column][vc_row_inner][vc_column_inner][vc_column_text]Création de contenus et de communications personnalisés en combinant la puissance de Word\, d’Excel et d’Outlook en même temps. \n\n\n\n[/vc_column_text][/vc_column_inner][/vc_row_inner][vc_row_inner][vc_column_inner][vc_column_text css=”.vc_custom_1578597471789{margin-bottom: 0px !important;}”] \nWorkshop Learning Outcomes\n\nDes suivis personnalisés avec plusieurs étudiants\nLa génération de plusieurs et différents examens\nDes rétroactions personnalisées à plusieurs étudiants\nLa rédaction de lettres personnalisées\n\n[/vc_column_text][/vc_column_inner][/vc_row_inner][vc_row_inner][vc_column_inner][vc_column_text css=”.vc_custom_1578597427908{margin-bottom: 0px !important;}”] \nPresenters(s)\nMehdi Idrissi\, Collège La Cité\nLinkedIn[/vc_column_text][/vc_column_inner][/vc_row_inner][vc_row_inner][vc_column_inner][vc_column_text css=”.vc_custom_1583178913121{margin-bottom: 0px !important;}”] \nPresentation Files\n\nPresentation Video (YouTube)\n\n\n\n\n[/vc_column_text][/vc_column_inner][/vc_row_inner][/vc_column][/vc_row][vc_row disable_element=”yes”][vc_column][vc_btn title=”Register for this Webinar” style=”custom” custom_background=”#5c068c” custom_text=”#ffffff” size=”lg” link=”url:https%3A%2F%2Fwww.eventbrite.ca%2Fe%2Fpublipostage-registration-90306853229||target:%20_blank|”][/vc_column][/vc_row]
URL:http://www.edtechontario.ca/event/publipostage/
LOCATION:Virtual Workshop – Link will be provided by email one week prior to the workshop
CATEGORIES:Virtual,Workshop
ORGANIZER;CN="Gina%20Catenazzo":MAILTO:gina.catenazzo@humber.ca
END:VEVENT
END:VCALENDAR