BEGIN:VCALENDAR
VERSION:2.0
PRODID:-//Educational Technology Committee - ECPv5.4.0.2//NONSGML v1.0//EN
CALSCALE:GREGORIAN
METHOD:PUBLISH
X-WR-CALNAME:Educational Technology Committee
X-ORIGINAL-URL:https://www.edtechontario.ca
X-WR-CALDESC:Events for Educational Technology Committee
BEGIN:VTIMEZONE
TZID:America/Toronto
BEGIN:DAYLIGHT
TZOFFSETFROM:-0500
TZOFFSETTO:-0400
TZNAME:EDT
DTSTART:20180311T070000
END:DAYLIGHT
BEGIN:STANDARD
TZOFFSETFROM:-0400
TZOFFSETTO:-0500
TZNAME:EST
DTSTART:20181104T060000
END:STANDARD
END:VTIMEZONE
BEGIN:VEVENT
DTSTART;TZID=America/Toronto:20181128T120000
DTEND;TZID=America/Toronto:20181128T130000
DTSTAMP:20260422T042516
CREATED:20181017T211720Z
LAST-MODIFIED:20190108T194540Z
UID:1088-1543406400-1543410000@www.edtechontario.ca
SUMMARY:Creating Accessible PowerPoint Documents
DESCRIPTION:Presenter: Gina Catenazzo (Humber College)\nIn this workshop\, we will look at and apply accessibility guidelines for creating digital content to PowerPoint presentations. We will look at best practices for making PowerPoint presentations accessible. As well\, we will use the built in accessibility checker in PowerPoint.  A perfect workshop for all faculty who are constantly thinking about making their content accessible! \nWorkshop Learning Outcomes: \n\nIdentify accessibility requirements and issues in a PowerPoint document.\nApply accessibility guidelines to a PowerPoint document.\nModify documents to comply with accessibility standards.\nUse Accessibility Checker in PowerPoint.\n\nGina Catenazzo – LinkedIn Profile \nPresentation files\n\nPresentation recording (YouTube)\nPresentation slides (PPTX)
URL:https://www.edtechontario.ca/event/creating-accessible-powerpoint-documents/
LOCATION:Virtual Workshop – Link will be provided by email one week prior to the workshop
CATEGORIES:Virtual,Workshop
ORGANIZER;CN="Mark%20Ihnat":MAILTO:mark.ihnat@humber.ca
END:VEVENT
END:VCALENDAR