BEGIN:VCALENDAR
VERSION:2.0
PRODID:-//Educational Technology Committee - ECPv5.4.0.2//NONSGML v1.0//EN
CALSCALE:GREGORIAN
METHOD:PUBLISH
X-WR-CALNAME:Educational Technology Committee
X-ORIGINAL-URL:https://www.edtechontario.ca
X-WR-CALDESC:Events for Educational Technology Committee
BEGIN:VTIMEZONE
TZID:America/Toronto
BEGIN:DAYLIGHT
TZOFFSETFROM:-0500
TZOFFSETTO:-0400
TZNAME:EDT
DTSTART:20190310T070000
END:DAYLIGHT
BEGIN:STANDARD
TZOFFSETFROM:-0400
TZOFFSETTO:-0500
TZNAME:EST
DTSTART:20191103T060000
END:STANDARD
END:VTIMEZONE
BEGIN:VEVENT
DTSTART;TZID=America/Toronto:20190319T120000
DTEND;TZID=America/Toronto:20190319T130000
DTSTAMP:20260422T082847
CREATED:20181219T161759Z
LAST-MODIFIED:20190326T155921Z
UID:1768-1552996800-1553000400@www.edtechontario.ca
SUMMARY:Explain It Like I'm Five
DESCRIPTION:Participants will learn how to apply the “Explain it Like I’m Five” strategy to help students further their understanding of complex concepts learnt throughout a course. This interactive teaching method gives learners the opportunity to synthesize concepts using simple language and drawings. This activity is impactful as it is diverse in nature\, so it can be applied to a variety of different courses and class settings. This workshop will provide all the necessary details to help participants understand and effectively integrate this technique in their classrooms and creatively use different technologies for activities that are traditionally done using only pen and paper. After completing the workshop\, you will have all of the information and tools required to understand and adapt this activity to your needs\, regardless of your classroom setting! \nWorkshop Learning Outcomes\n\nDiscover the positive impact of this activity on learners’ understanding of complex concepts.\nLearn how to develop and apply this strategy in a classroom environment.\n\nPresenter(s)\nÉmilie Cormier\, La Cité College\nLinkedIn\nPresentation files\n\nPresentation recording (YouTube)\nPresentation slides (PDF)
URL:https://www.edtechontario.ca/event/explain-it-like-im-five/
LOCATION:Virtual Workshop – Link will be provided by email one week prior to the workshop
CATEGORIES:Virtual,Workshop
ORGANIZER;CN="Gina%20Catenazzo":MAILTO:gina.catenazzo@humber.ca
END:VEVENT
END:VCALENDAR