BEGIN:VCALENDAR
VERSION:2.0
PRODID:-//Educational Technology Committee - ECPv5.4.0.2//NONSGML v1.0//EN
CALSCALE:GREGORIAN
METHOD:PUBLISH
X-WR-CALNAME:Educational Technology Committee
X-ORIGINAL-URL:https://www.edtechontario.ca
X-WR-CALDESC:Events for Educational Technology Committee
BEGIN:VTIMEZONE
TZID:America/Toronto
BEGIN:DAYLIGHT
TZOFFSETFROM:-0500
TZOFFSETTO:-0400
TZNAME:EDT
DTSTART:20180311T070000
END:DAYLIGHT
BEGIN:STANDARD
TZOFFSETFROM:-0400
TZOFFSETTO:-0500
TZNAME:EST
DTSTART:20181104T060000
END:STANDARD
END:VTIMEZONE
BEGIN:VEVENT
DTSTART;TZID=America/Toronto:20181114T110000
DTEND;TZID=America/Toronto:20181114T120000
DTSTAMP:20260422T042457
CREATED:20181017T211143Z
LAST-MODIFIED:20190108T194722Z
UID:1085-1542193200-1542196800@www.edtechontario.ca
SUMMARY:Interface & Interaction
DESCRIPTION:Presenters: Brian Gould and Jessica Pearce (Mohawk College)\nThis workshop will explore how instructors can ensure student engagement in their online courses by maintaining a well-organized interface and providing learners with multimedia activities. \nThe first half of this webinar will highlight how online course aesthetic improves the overall online learning experience as well as student success rates. Facilitators will show participants specific online course templates that are not only visually appealing but also are high functioning\, well-organized pages that benefit the online learner. \nThe second half of the workshop will discuss practical ways online instructors can incorporate more interactivity and engagement into their classes. Examples from online courses will be shown where students become more involved in content by completing multimedia activities to demonstrate their knowledge. \nJessica Pearce – LinkedIn Profile \nBrian Gould – LinkedIn Profile \nPresentation files\n\nPresentation recording (YouTube)\nPresentation slides (PPTX)
URL:https://www.edtechontario.ca/event/interface-interaction/
LOCATION:Virtual Workshop – Link will be provided by email one week prior to the workshop
CATEGORIES:Virtual,Workshop
ORGANIZER;CN="Mark%20Ihnat":MAILTO:mark.ihnat@humber.ca
END:VEVENT
END:VCALENDAR