BEGIN:VCALENDAR
VERSION:2.0
PRODID:-//Educational Technology Committee - ECPv5.4.0.2//NONSGML v1.0//EN
CALSCALE:GREGORIAN
METHOD:PUBLISH
X-WR-CALNAME:Educational Technology Committee
X-ORIGINAL-URL:https://www.edtechontario.ca
X-WR-CALDESC:Events for Educational Technology Committee
BEGIN:VTIMEZONE
TZID:America/Toronto
BEGIN:DAYLIGHT
TZOFFSETFROM:-0500
TZOFFSETTO:-0400
TZNAME:EDT
DTSTART:20190310T070000
END:DAYLIGHT
BEGIN:STANDARD
TZOFFSETFROM:-0400
TZOFFSETTO:-0500
TZNAME:EST
DTSTART:20191103T060000
END:STANDARD
END:VTIMEZONE
BEGIN:VEVENT
DTSTART;TZID=America/Toronto:20190213T120000
DTEND;TZID=America/Toronto:20190213T130000
DTSTAMP:20260422T104444
CREATED:20190108T155443Z
LAST-MODIFIED:20190214T181021Z
UID:1827-1550059200-1550062800@www.edtechontario.ca
SUMMARY:Little Known Ways of facilitating BYOD in classrooms
DESCRIPTION:The BYOD(Bring Your Own Device) classroom environment encourages learners\, the use of personally owned technology devices to further engage and encourage interactive exploration of course materials thus optimizing the learning experience. Learn policies\, risks and security methods\, methods to engage learners\, etc and walk home with a working action plan in this informative Webnair. \nWorkshop Learning Outcomes\n\nWhat is BYOD and why is it important in classrooms\n10 way to integrate BYOD in classrooms\nIdentify requirements and create a BYOD Policy for your classroom\nCreative ways of providing learning content via BYOD\n5 easy to use tools that can come to rescue\n\nPresenter(s)\nYash Shah\, Conestoga College\nPresentation files\n\nPresentation recording (YouTube)\nPresentation slides (PPTX)
URL:https://www.edtechontario.ca/event/little-known-ways-of-facilitating-byod-in-classrooms/
LOCATION:Virtual Workshop – Link will be provided by email one week prior to the workshop
CATEGORIES:Virtual,Workshop
ORGANIZER;CN="Gina%20Catenazzo":MAILTO:gina.catenazzo@humber.ca
END:VEVENT
END:VCALENDAR