BEGIN:VCALENDAR
VERSION:2.0
PRODID:-//Educational Technology Committee - ECPv5.4.0.2//NONSGML v1.0//EN
CALSCALE:GREGORIAN
METHOD:PUBLISH
X-WR-CALNAME:Educational Technology Committee
X-ORIGINAL-URL:https://www.edtechontario.ca
X-WR-CALDESC:Events for Educational Technology Committee
BEGIN:VTIMEZONE
TZID:America/Toronto
BEGIN:DAYLIGHT
TZOFFSETFROM:-0500
TZOFFSETTO:-0400
TZNAME:EDT
DTSTART:20190310T070000
END:DAYLIGHT
BEGIN:STANDARD
TZOFFSETFROM:-0400
TZOFFSETTO:-0500
TZNAME:EST
DTSTART:20191103T060000
END:STANDARD
END:VTIMEZONE
BEGIN:VEVENT
DTSTART;TZID=America/Toronto:20190305T120000
DTEND;TZID=America/Toronto:20190305T130000
DTSTAMP:20260422T083611
CREATED:20181218T211244Z
LAST-MODIFIED:20190307T151127Z
UID:1747-1551787200-1551790800@www.edtechontario.ca
SUMMARY:Sway This Way - INcorporating Student Experience into Flexible Professional Learning
DESCRIPTION:This workshop will focus on the incorporation of the student voice and experience into flexible professional development for busy faculty. Facilitator Laura Stoutenburg will describe an innovative approach to professional learning\, including student voices and experiences in the development of learning tips for faculty. My topic is about how to branch out using ed tech to provide accessible professional development for busy faculty. A more traditional teaching tip modality will be compared with the Microsoft Sway produced in collaboration between a Teaching and Learning Consultant and a group of international students. \nWorkshop Learning Outcomes\n\nIdentify the value of incorporating student experience into professional learning.\nCompare two professional development modalities.\nSuggest new possibilities for student participation and for just-in-time professional development delivery.\n\nPresenter(s)\nLaura Stoutenburg\, Conestoga College\nPresentation files\n\nPresentation recording (YouTube)\nSway presentation (web link)
URL:https://www.edtechontario.ca/event/sway-this-way-incorporating-student-experience-into-flexible-professional-learning/
LOCATION:Virtual Workshop – Link will be provided by email one week prior to the workshop
CATEGORIES:Virtual,Workshop
ORGANIZER;CN="Gina%20Catenazzo":MAILTO:gina.catenazzo@humber.ca
END:VEVENT
END:VCALENDAR